BEGIN:VCALENDAR
PRODID:-//eluceo/ical//2.0/EN
VERSION:2.0
CALSCALE:GREGORIAN
BEGIN:VEVENT
UID:8287b7b6af0f2f1e8ee4f2b82ffa503c
DTSTAMP:20260422T210450Z
SUMMARY:EB Zürich - SVEB-Zertifikat Ausbilder/in – Einzelbegleitungen (v
 ormals Praxisausbilder/in) - vor Ort
DTSTART;TZID=Europe/Zurich:20270906T083000
DTEND;TZID=Europe/Zurich:20270906T170000
END:VEVENT
BEGIN:VEVENT
UID:869813de2c902f7c7834a93b3e030e95
DTSTAMP:20260422T210450Z
SUMMARY:EB Zürich - SVEB-Zertifikat Ausbilder/in – Einzelbegleitungen (v
 ormals Praxisausbilder/in) - online
DTSTART;TZID=Europe/Zurich:20270907T083000
DTEND;TZID=Europe/Zurich:20270907T161500
END:VEVENT
BEGIN:VEVENT
UID:a7afe493500b77606a7f64894054fae9
DTSTAMP:20260422T210450Z
SUMMARY:EB Zürich - SVEB-Zertifikat Ausbilder/in – Einzelbegleitungen (v
 ormals Praxisausbilder/in) - online
DTSTART;TZID=Europe/Zurich:20270920T083000
DTEND;TZID=Europe/Zurich:20270920T121500
END:VEVENT
BEGIN:VEVENT
UID:3aa342d929abf6e3a6361f88b6f8d7c4
DTSTAMP:20260422T210450Z
SUMMARY:EB Zürich - SVEB-Zertifikat Ausbilder/in – Einzelbegleitungen (v
 ormals Praxisausbilder/in) - vor Ort
DTSTART;TZID=Europe/Zurich:20271004T083000
DTEND;TZID=Europe/Zurich:20271004T170000
END:VEVENT
BEGIN:VEVENT
UID:2acac6b0a08b6df4ec8ce3776e59e7a0
DTSTAMP:20260422T210450Z
SUMMARY:EB Zürich - SVEB-Zertifikat Ausbilder/in – Einzelbegleitungen (v
 ormals Praxisausbilder/in) - online
DTSTART;TZID=Europe/Zurich:20271005T083000
DTEND;TZID=Europe/Zurich:20271005T161500
END:VEVENT
BEGIN:VEVENT
UID:862870910faa2c0b5a06d9b548a10a6f
DTSTAMP:20260422T210450Z
SUMMARY:EB Zürich - SVEB-Zertifikat Ausbilder/in – Einzelbegleitungen (v
 ormals Praxisausbilder/in) - online
DTSTART;TZID=Europe/Zurich:20271025T083000
DTEND;TZID=Europe/Zurich:20271025T121500
END:VEVENT
BEGIN:VEVENT
UID:ab670f2b3ddee1391eaa78348177b746
DTSTAMP:20260422T210450Z
SUMMARY:EB Zürich - SVEB-Zertifikat Ausbilder/in – Einzelbegleitungen (v
 ormals Praxisausbilder/in) - vor Ort
DTSTART;TZID=Europe/Zurich:20271115T083000
DTEND;TZID=Europe/Zurich:20271115T170000
END:VEVENT
BEGIN:VEVENT
UID:7b477a13d6fe58528838b0fbe8eb9893
DTSTAMP:20260422T210450Z
SUMMARY:EB Zürich - SVEB-Zertifikat Ausbilder/in – Einzelbegleitungen (v
 ormals Praxisausbilder/in) - online
DTSTART;TZID=Europe/Zurich:20271116T083000
DTEND;TZID=Europe/Zurich:20271116T161500
END:VEVENT
BEGIN:VEVENT
UID:c9a7baccd635ca8d673eedba6ec054f1
DTSTAMP:20260422T210450Z
SUMMARY:EB Zürich - SVEB-Zertifikat Ausbilder/in – Einzelbegleitungen (v
 ormals Praxisausbilder/in) - online
DTSTART;TZID=Europe/Zurich:20271129T083000
DTEND;TZID=Europe/Zurich:20271129T121500
END:VEVENT
BEGIN:VEVENT
UID:c5b55bc3f8e0b3e558e2dadc6fbcd112
DTSTAMP:20260422T210450Z
SUMMARY:EB Zürich - SVEB-Zertifikat Ausbilder/in – Einzelbegleitungen (v
 ormals Praxisausbilder/in) - online
DTSTART;TZID=Europe/Zurich:20280103T083000
DTEND;TZID=Europe/Zurich:20280103T121500
END:VEVENT
BEGIN:VEVENT
UID:05559e1beef45113a081a9d84ddadd64
DTSTAMP:20260422T210450Z
SUMMARY:EB Zürich - SVEB-Zertifikat Ausbilder/in – Einzelbegleitungen (v
 ormals Praxisausbilder/in) - vor Ort
DTSTART;TZID=Europe/Zurich:20280117T083000
DTEND;TZID=Europe/Zurich:20280117T170000
END:VEVENT
BEGIN:VEVENT
UID:8bda8cb614cb0ed87d48c68189e2ebd0
DTSTAMP:20260422T210450Z
SUMMARY:EB Zürich - SVEB-Zertifikat Ausbilder/in – Einzelbegleitungen (v
 ormals Praxisausbilder/in) - vor Ort
DTSTART;TZID=Europe/Zurich:20280118T083000
DTEND;TZID=Europe/Zurich:20280118T170000
END:VEVENT
END:VCALENDAR
