BEGIN:VCALENDAR
PRODID:-//eluceo/ical//2.0/EN
VERSION:2.0
CALSCALE:GREGORIAN
BEGIN:VEVENT
UID:fd66903559cde7f50173bb9723877de6
DTSTAMP:20260422T210427Z
SUMMARY:EB Zürich - SVEB-Zertifikat Ausbilder/in – Einzelbegleitungen (v
 ormals Praxisausbilder/in) - vor Ort
DTSTART;TZID=Europe/Zurich:20270208T083000
DTEND;TZID=Europe/Zurich:20270208T170000
END:VEVENT
BEGIN:VEVENT
UID:a350b2a34ae1cb617d5952e8743df150
DTSTAMP:20260422T210427Z
SUMMARY:EB Zürich - SVEB-Zertifikat Ausbilder/in – Einzelbegleitungen (v
 ormals Praxisausbilder/in) - online
DTSTART;TZID=Europe/Zurich:20270209T083000
DTEND;TZID=Europe/Zurich:20270209T161500
END:VEVENT
BEGIN:VEVENT
UID:8d0f41329626a093a225c3780d92c3bd
DTSTAMP:20260422T210427Z
SUMMARY:EB Zürich - SVEB-Zertifikat Ausbilder/in – Einzelbegleitungen (v
 ormals Praxisausbilder/in) - online
DTSTART;TZID=Europe/Zurich:20270301T083000
DTEND;TZID=Europe/Zurich:20270301T121500
END:VEVENT
BEGIN:VEVENT
UID:8783f5470ab57818c3a1b77dc0f62cea
DTSTAMP:20260422T210427Z
SUMMARY:EB Zürich - SVEB-Zertifikat Ausbilder/in – Einzelbegleitungen (v
 ormals Praxisausbilder/in) - vor Ort
DTSTART;TZID=Europe/Zurich:20270308T083000
DTEND;TZID=Europe/Zurich:20270308T170000
END:VEVENT
BEGIN:VEVENT
UID:c78178bd167528ae698f4f3c63cf9cc5
DTSTAMP:20260422T210427Z
SUMMARY:EB Zürich - SVEB-Zertifikat Ausbilder/in – Einzelbegleitungen (v
 ormals Praxisausbilder/in) - online
DTSTART;TZID=Europe/Zurich:20270309T083000
DTEND;TZID=Europe/Zurich:20270309T161500
END:VEVENT
BEGIN:VEVENT
UID:83fbe43544699dafc35e7cf015f7cf69
DTSTAMP:20260422T210427Z
SUMMARY:EB Zürich - SVEB-Zertifikat Ausbilder/in – Einzelbegleitungen (v
 ormals Praxisausbilder/in) - online
DTSTART;TZID=Europe/Zurich:20270322T083000
DTEND;TZID=Europe/Zurich:20270322T121500
END:VEVENT
BEGIN:VEVENT
UID:d39b672a756f0dc9e254c105ed6d7697
DTSTAMP:20260422T210427Z
SUMMARY:EB Zürich - SVEB-Zertifikat Ausbilder/in – Einzelbegleitungen (v
 ormals Praxisausbilder/in) - vor Ort
DTSTART;TZID=Europe/Zurich:20270412T083000
DTEND;TZID=Europe/Zurich:20270412T170000
END:VEVENT
BEGIN:VEVENT
UID:dfa4c30be19b3dacaf4854a482299664
DTSTAMP:20260422T210427Z
SUMMARY:EB Zürich - SVEB-Zertifikat Ausbilder/in – Einzelbegleitungen (v
 ormals Praxisausbilder/in) - online
DTSTART;TZID=Europe/Zurich:20270413T083000
DTEND;TZID=Europe/Zurich:20270413T161500
END:VEVENT
BEGIN:VEVENT
UID:78245e3f0355b5b8b7e096b80c7a7b7b
DTSTAMP:20260422T210427Z
SUMMARY:EB Zürich - SVEB-Zertifikat Ausbilder/in – Einzelbegleitungen (v
 ormals Praxisausbilder/in) - online
DTSTART;TZID=Europe/Zurich:20270510T083000
DTEND;TZID=Europe/Zurich:20270510T121500
END:VEVENT
BEGIN:VEVENT
UID:bdd4a7f2f52234bb667e909fcb754e46
DTSTAMP:20260422T210427Z
SUMMARY:EB Zürich - SVEB-Zertifikat Ausbilder/in – Einzelbegleitungen (v
 ormals Praxisausbilder/in) - online
DTSTART;TZID=Europe/Zurich:20270531T083000
DTEND;TZID=Europe/Zurich:20270531T121500
END:VEVENT
BEGIN:VEVENT
UID:74598dfe75ca5422cbcc5edf3cb6a9ca
DTSTAMP:20260422T210427Z
SUMMARY:EB Zürich - SVEB-Zertifikat Ausbilder/in – Einzelbegleitungen (v
 ormals Praxisausbilder/in) - vor Ort
DTSTART;TZID=Europe/Zurich:20270614T083000
DTEND;TZID=Europe/Zurich:20270614T170000
END:VEVENT
BEGIN:VEVENT
UID:6ef0c8e6517fe329fc422cca5a1c8d50
DTSTAMP:20260422T210427Z
SUMMARY:EB Zürich - SVEB-Zertifikat Ausbilder/in – Einzelbegleitungen (v
 ormals Praxisausbilder/in) - vor Ort
DTSTART;TZID=Europe/Zurich:20270615T083000
DTEND;TZID=Europe/Zurich:20270615T170000
END:VEVENT
END:VCALENDAR
